BEGIN:VCALENDAR
VERSION:2.0
PRODID:-//SAMED - ECPv6.15.17.1//NONSGML v1.0//EN
CALSCALE:GREGORIAN
METHOD:PUBLISH
X-WR-CALNAME:SAMED
X-ORIGINAL-URL:https://samed.org.za
X-WR-CALDESC:Events for SAMED
REFRESH-INTERVAL;VALUE=DURATION:PT1H
X-Robots-Tag:noindex
X-PUBLISHED-TTL:PT1H
BEGIN:VTIMEZONE
TZID:Africa/Johannesburg
BEGIN:STANDARD
TZOFFSETFROM:+0200
TZOFFSETTO:+0200
TZNAME:SAST
DTSTART:20250101T000000
END:STANDARD
END:VTIMEZONE
BEGIN:VEVENT
DTSTART;TZID=Africa/Johannesburg:20260423T130000
DTEND;TZID=Africa/Johannesburg:20260423T150000
DTSTAMP:20260421T114054
CREATED:20260312T072504Z
LAST-MODIFIED:20260312T072819Z
UID:16573-1776949200-1776956400@samed.org.za
SUMMARY:CEO Pulse Forum
DESCRIPTION:In an environment defined by economic uncertainty and rising governance expectations\, executive leadership is being tested. This CEO Pulse convenes South Africa’s foremost governance and economic voices to equip leaders with clarity\, foresight\, and strategic direction. \n13:00 – 14:00 \nProf Mervyn King \nEthical Leadership and Long-Term Value Creation under King V \nProf King will provide a perspective on: \n\nEthical leadership in constrained public-finance environments\nBalancing commercial sustainability with societal impact\nRisk oversight in complex\, regulated sectors\nGovernance resilience amid liquidity pressure\n\n14:00 – 15:00 \nLesetja Kganyago \nMacroeconomic Outlook & Implications for the Medtech Sector \nThe Governor of the South African Reserve Bank will provide: \n\nInsight into the macroeconomic outlook\nMonetary policy considerations and interest rate dynamics\nInflation\, fiscal pressures and liquidity constraints\nSystemic risks influencing healthcare funding and procurement\n\nFor leaders operating at the intersection of health\, innovation and capital\, this strategic economic context is indispensable. \nWhat You Will Walk Away With \n\nClear governance guidance on ethical decision-making\nStrategic economic foresight to inform capital allocation and investment planning\nDeeper understanding of systemic financial risks affecting healthcare sustainability\nPractical considerations to strengthen organisational resilience\n\nWho Should Attend \n\nChief Executive Officers\nManaging Directors & General Managers\nExecutive Committee Members\nSenior leaders responsible for strategy\, finance\, governance\, regulatory and market access\n\nIn volatile environments\, leadership clarity is competitive advantage. \nRegister: Click Here
URL:https://samed.org.za/event/ceo-pulse-forum/
LOCATION:Virtual
ATTACH;FMTTYPE=image/png:https://samed.org.za/wp-content/uploads/2026/03/CEO-Pulse-website-scaled.png
END:VEVENT
BEGIN:VEVENT
DTSTART;TZID=Africa/Johannesburg:20260424T140000
DTEND;TZID=Africa/Johannesburg:20260424T160000
DTSTAMP:20260421T114054
CREATED:20260327T072620Z
LAST-MODIFIED:20260327T072620Z
UID:16629-1777039200-1777046400@samed.org.za
SUMMARY:KZN Chairperson's Forum
DESCRIPTION:For Attention: KZN-based SAMED Members \nJoin us in KwaZulu-Natal for an in-person Chairperson’s Forum featuring committee updates. This forum marks the first stop in SAMED’s 2026 Chairperson’s Roadshow — creating a dedicated platform for in-person engagement between members\, the Chairperson\, Executive Officer\, and Committee Chairs. \nWhy attend? \n\nGain direct insight into what SAMED has been working on across key priority areas\nEngage directly with leadership and raise your organisation’s concerns in real time\nInfluence how SAMED continues to represent member priorities\n\nProgramme: \n\n14:00 | SAMED General Updates\n14:10 | Industry Data\n14:20 | Market Sustainability\n14:30 | Market Access\n14:40 | NHI & BUSA Engagements\n14:50 | Diversity & Inclusion\n15:00 | MedTech Master Plan\n15:10 | Code & Compliance\n15:20 | Regulatory\n15:30 | Engagement\n16:00 | Close\n\nRSVP by 24 April 2026 to confirm your attendance: Click here \nWe look forward to engaging with you.
URL:https://samed.org.za/event/kzn-chairpersons-forum/
LOCATION:KwaZulu-Natal (TBC)
ATTACH;FMTTYPE=image/png:https://samed.org.za/wp-content/uploads/2026/03/Website-Graphic-1-scaled.png
END:VEVENT
BEGIN:VEVENT
DTSTART;TZID=Africa/Johannesburg:20260521T083000
DTEND;TZID=Africa/Johannesburg:20260521T130000
DTSTAMP:20260421T114054
CREATED:20260330T065139Z
LAST-MODIFIED:20260410T114816Z
UID:16640-1779352200-1779368400@samed.org.za
SUMMARY:SAMED’s 39th Annual General Meeting
DESCRIPTION:Please save the date for SAMED’s 39th Annual General Meeting \nEvent Details: \n\nRegistration: 08:30\nNetworking Lunch after the event\nVenue: Courtyard Hotel Waterfall City\, 13 Karkloof Cres\, Midrand\, 2066\n\nThis is one of the most important engagements on the SAMED calendar and we invite you to be part of shaping the future of our association and the MedTech industry. \nAs a valued member\, this is your opportunity to: \n\nEngage on key developments impacting the MedTech sector\nParticipate in the election of ordinary members to the SAMED Board\nContribute to the strategic direction of the association\n\nThe AGM will be hosted in a hybrid format\, allowing members to attend either in-person or virtually. Members are encouraged to RSVP as the virtual access link will be shared closer to the event with members who have selected virtual attendance. \nKindly confirm your attendance by indicating your preferred mode (in-person or virtual) via the RSVP link below: \nRSVP by 13 May 2026: Click Here \nWe look forward to your participation in this important engagement.
URL:https://samed.org.za/event/16640/
LOCATION:Hybrid
ATTACH;FMTTYPE=image/png:https://samed.org.za/wp-content/uploads/2026/03/Events-page.png
END:VEVENT
END:VCALENDAR