BEGIN:VCALENDAR
VERSION:2.0
PRODID:-//SAMED - ECPv6.15.17.1//NONSGML v1.0//EN
CALSCALE:GREGORIAN
METHOD:PUBLISH
X-WR-CALNAME:SAMED
X-ORIGINAL-URL:https://samed.org.za
X-WR-CALDESC:Events for SAMED
REFRESH-INTERVAL;VALUE=DURATION:PT1H
X-Robots-Tag:noindex
X-PUBLISHED-TTL:PT1H
BEGIN:VTIMEZONE
TZID:Africa/Johannesburg
BEGIN:STANDARD
TZOFFSETFROM:+0200
TZOFFSETTO:+0200
TZNAME:SAST
DTSTART:20240101T000000
END:STANDARD
END:VTIMEZONE
BEGIN:VEVENT
DTSTART;TZID=Africa/Johannesburg:20251023T140000
DTEND;TZID=Africa/Johannesburg:20251023T170000
DTSTAMP:20260420T201736
CREATED:20250624T082651Z
LAST-MODIFIED:20250624T082652Z
UID:15454-1761228000-1761238800@samed.org.za
SUMMARY:Chairperson's Forum - Cape Town
DESCRIPTION:Save the Date – Event Details Coming Soon
URL:https://samed.org.za/event/chairpersons-forum-cape-town/
CATEGORIES:Chairperson's Forum
END:VEVENT
BEGIN:VEVENT
DTSTART;TZID=Africa/Johannesburg:20251015T100000
DTEND;TZID=Africa/Johannesburg:20251015T120000
DTSTAMP:20260420T201736
CREATED:20250721T110020Z
LAST-MODIFIED:20251001T095233Z
UID:15525-1760522400-1760529600@samed.org.za
SUMMARY:SAMED Workshop: ISO 13485 for Medtech Distributors
DESCRIPTION:We are pleased to extend an invitation to SAMED members to attend a focused and practical workshop designed to support distributors in understanding and implementing ISO 13485 requirements. \nThe workshop will unpack the regulatory context\, clarify distributor responsibilities under ISO 13485\, and explore how quality management systems (QMS) directly impact compliance\, risk management\, and patient safety. Through a panel discussion with SAHPRA-recognized Conformity Assessment Bodies (CABs)\, members will gain insights into real-world challenges and solutions\, with opportunities to ask questions and engage directly with experts. \nWho Should Attend \nThe workshop is tailored to distributors of medical technology. Whether you are just starting out with ISO 13485\, preparing for an audit or refining your QMS\, this workshop will offer practical insights to help you strengthen compliance and contribute to safer healthcare delivery. It’s designed to meet you where you are and support your next step forward. \nParticipating SAHPRA-Recognized Conformity Assessment Bodies (CABs)* \n\nDQS (Pty) Ltd\nJC Auditors\nThe Institute of Bio Research Auditing and Training in Southern Africa (IBRATSA)\nKGS Certification Sdn. Bhd\nSancert (Pty) Ltd\nSouth African Certification and Auditing Services (SACAS) (Pty) Ltd\nTNV Certification Private Limited (TNV)\nTranspacific Certifications Limited (TCL)\n\nShape the Discussion – Submit Your Questions \nTo gain the most valuable benefit from this workshop\, we encourage you to submit your questions for the panel ahead of time – this is your opportunity to highlight the specific challenges you face. Your questions will help ensure the discussion is practical and tailored to your needs. All questions are submitted anonymously\, so feel free to ask what matters most to you. Submit your questions for the panel here. \n Cost to Attend \n\nSAMED Ordinary & Associate Members: Free of Charge\nNon-SAMED Members: Please contact alwi@samed.org.za for the cost to attend the event\n\n Registration \n\nClick here to register for the event\n\n*All SAHPRA-recognized CABs were invited to participate in this event. More participants may be added as we receive further confirmation of participation.
URL:https://samed.org.za/event/regulatory-forum-update-on-published-guidelines-2/
LOCATION:Virtual
ORGANIZER;CN="SAMED":MAILTO:communication@samed.org.za
END:VEVENT
BEGIN:VEVENT
DTSTART;TZID=Africa/Johannesburg:20250918T100000
DTEND;TZID=Africa/Johannesburg:20250918T120000
DTSTAMP:20260420T201736
CREATED:20250624T082520Z
LAST-MODIFIED:20250624T082521Z
UID:15452-1758189600-1758196800@samed.org.za
SUMMARY:Diversity in Medtech Forum
DESCRIPTION:Save the Date – Event Details Coming Soon
URL:https://samed.org.za/event/diversity-in-medtech-forum/
LOCATION:Virtual
CATEGORIES:Diversity in Medtech
ORGANIZER;CN="SAMED":MAILTO:communication@samed.org.za
END:VEVENT
BEGIN:VEVENT
DTSTART;TZID=Africa/Johannesburg:20250917T100000
DTEND;TZID=Africa/Johannesburg:20250917T113000
DTSTAMP:20260420T201736
CREATED:20250721T110913Z
LAST-MODIFIED:20250826T114409Z
UID:15529-1758103200-1758108600@samed.org.za
SUMMARY:Project 18C (SAMED & MCA Collaboration): Medtech & Pharmaceutical Compliance Officers' Forum
DESCRIPTION:We are pleased to invite you to the Medtech and Pharmaceutical Compliance Officers’ Forum on Wednesday\, 17 September 2025\, where we will explore the latest trends\, challenges\, and best practices in compliance risk management within the pharmaceutical and medical technology sectors. The event will feature two crucial topics designed to equip compliance officers with the knowledge and tools necessary to navigate evolving risks. \nAI in Compliance Risk Management  (Ash Aggarwal & Carlotta Cosulich\, IQVIA) \nArtificial Intelligence (AI) is rapidly transforming the compliance landscape\, offering new ways to enhance compliance monitoring\, streamline data analysis\, and reduce human error. However\, the integration of AI also brings with it a set of challenges\, from ethical concerns to regulatory compliance issues. This session will delve into how AI can be leveraged in compliance frameworks\, particularly for the pharmaceutical and medtech industries. Our expert speaker will discuss how AI can help improve compliance monitoring\, while addressing the potential risks\, such as algorithmic bias\, transparency\, and accountability. \nSocial Media Pitfalls and Risk Areas (Elsabé Klinck\, Klinck & Samuels) \nSocial media is an undeniable part of today’s marketing and communication strategies\, but it also presents significant compliance risks. This session will address how pharmaceutical and medtech compliance officers can mitigate the risks associated with social media engagement\, from influencer marketing to sharing medical information. Our expert speaker will provide actionable insights on maintaining compliance\, while ensuring that promotional content and public relations efforts on social media platforms align with legislative and regulatory standards. Key areas of focus will include the prevention of unapproved product promotions and the ethical use of social media in the healthcare space. \nWhy Attend? \n\nGain insights from leading experts on how to integrate AI responsibly within your compliance framework.\nLearn strategies for managing social media risks while maintaining compliance with industry guidelines.\nStay ahead of the curve on emerging compliance challenges in the pharmaceutical and medtech sectors.\n\nAttendance \n\nFree of charge and limited to MCA Members\, SAMED Members and Code Signatories\n\nRegistration \n\nClick Here
URL:https://samed.org.za/event/project-18c-samed-mca-collaboration-compliance-officers-forum/
LOCATION:Virtual
END:VEVENT
BEGIN:VEVENT
DTSTART;TZID=Africa/Johannesburg:20250916T100000
DTEND;TZID=Africa/Johannesburg:20250916T120000
DTSTAMP:20260420T201736
CREATED:20250624T085535Z
LAST-MODIFIED:20250902T131159Z
UID:15473-1758016800-1758024000@samed.org.za
SUMMARY:Regulatory Forum: Insights and Updates Across the Medtech Regulatory Landscape
DESCRIPTION:We are pleased to invite you to the next Regulatory Forum where we will provide key updates on the EU MDR and IVDR (TBC)\, newly published guidelines and forms\, and insights from the SAMED Regulatory Committee. \nWho Should Attend? \n\nRegulatory Professionals\nQuality Assurance Professionals\nAnyone involved in managing\, overseeing or ensuring compliant regulatory practices in the organization\n\nAttendance \n\nSAMED Members & Code Signatories: Free of charge.\nNon-Members & Non-Code Signatories: Please contact alwi@samed.org.za for the cost to attend the event.\n\nRegistration \n\nClick Here
URL:https://samed.org.za/event/regulatory-forum-2/
LOCATION:Virtual
CATEGORIES:Regulatory
ORGANIZER;CN="SAMED":MAILTO:communication@samed.org.za
END:VEVENT
BEGIN:VEVENT
DTSTART;TZID=Africa/Johannesburg:20250911T100000
DTEND;TZID=Africa/Johannesburg:20250911T120000
DTSTAMP:20260420T201736
CREATED:20250624T082405Z
LAST-MODIFIED:20250624T082406Z
UID:15450-1757584800-1757592000@samed.org.za
SUMMARY:Market Access Forum
DESCRIPTION:Save the Date – Event Details Coming Soon
URL:https://samed.org.za/event/market-access-forum/
LOCATION:Virtual
CATEGORIES:Market Access
ORGANIZER;CN="SAMED":MAILTO:communication@samed.org.za
END:VEVENT
BEGIN:VEVENT
DTSTART;TZID=Africa/Johannesburg:20250909T120000
DTEND;TZID=Africa/Johannesburg:20250909T140000
DTSTAMP:20260420T201736
CREATED:20250623T111807Z
LAST-MODIFIED:20250902T071732Z
UID:15398-1757419200-1757426400@samed.org.za
SUMMARY:Medical Technology Code Forum: HPCSA Ethical Rules (Webinar 3 of 4)
DESCRIPTION:We are excited to invite you to our next Code Forum on Tuesday\, 09 September 2025. In this session\, Elsabé Klinck will unpack the HPCSA’s Ethical Rules\, Policies\, and Booklets focusing on informed consent\, healthcare options\, and confidentiality as it relates to the medtech sector. \n\nDownload Booklet 04: Seeking Patients’ Informed Consent – The Ethical Considerations\nDownload Booklet 05: Confidentiality – Protecting and Providing Information\n\nThis is a great opportunity to gain practical insights on how these guidelines shape your engagement with healthcare professionals and patients. \nWho Should Attend: \n\nMedtech professionals seeking clarity on ethical engagement with healthcare providers and patients.\nCompliance officers and legal advisors working within the healthcare and medtech sectors.\nMarketing and sales teams interacting with healthcare professionals\, where informed consent and confidentiality are key.\nMedical affairs and regulatory personnel who need to align their practices with HPCSA ethical guidelines.\nSAMED members and Code signatories looking to deepen their understanding of Booklets 04 and 05 and ensure ethical compliance.\n\nCost to Attend: \n\nSAMED Members and Code Signatories – Free of Charge\nNon-SAMED Members and Non-Code Signatories – Please contact alwi@samed.org.za for the cost to attend this event\n\nPlease note: Due to publication restrictions\, we are unable to share the recording of the event and access to Elsabé Klinck’s presentation is limited to SAMED members and Code signatories who attended the session. To ensure that you benefit from this session\, please register and attend the event. \nRegistration \n\nClick Here
URL:https://samed.org.za/event/medical-technology-code-forum-2/
LOCATION:Virtual
CATEGORIES:Code
ORGANIZER;CN="SAMED":MAILTO:communication@samed.org.za
END:VEVENT
BEGIN:VEVENT
DTSTART;TZID=Africa/Johannesburg:20250828T090000
DTEND;TZID=Africa/Johannesburg:20250828T110000
DTSTAMP:20260420T201736
CREATED:20250624T083348Z
LAST-MODIFIED:20250624T083348Z
UID:15458-1756371600-1756378800@samed.org.za
SUMMARY:Captains of Industry Forum
DESCRIPTION:Save the Date – Event Details Coming Soon
URL:https://samed.org.za/event/captains-of-industry-forum/
LOCATION:Virtual
CATEGORIES:Captains of Industry
ORGANIZER;CN="SAMED":MAILTO:communication@samed.org.za
END:VEVENT
BEGIN:VEVENT
DTSTART;TZID=Africa/Johannesburg:20250821T140000
DTEND;TZID=Africa/Johannesburg:20250821T160000
DTSTAMP:20260420T201736
CREATED:20250624T081904Z
LAST-MODIFIED:20250812T091622Z
UID:15448-1755784800-1755792000@samed.org.za
SUMMARY:Chairperson's Forum in Durban (In-person Event)
DESCRIPTION:This forum is an opportunity to engage directly with the SAMED Chairperson and board leads that will offer you a critical opportunity to: \n\nAlign with the strategic direction and current priorities of the association\nReceive first-hand updates on advocacy efforts and policy engagement\, including NHI\, government debt and the women empowerment index\nShare feedback and raise issues relevant to your business and the broader medtech sector\nStrengthen your industry relationships and collaboration with SAMED leadership\nStay informed on key compliance\, regulatory and market trends affecting our environment\n\nYour attendance is important for ensuring your voice is heard and that you remain actively involved in shaping the future of our industry. \nRegister Here
URL:https://samed.org.za/event/chairpersons-forum-in-durban/
CATEGORIES:Chairperson's Forum
ORGANIZER;CN="SAMED":MAILTO:communication@samed.org.za
END:VEVENT
BEGIN:VEVENT
DTSTART;TZID=Africa/Johannesburg:20250807T123000
DTEND;TZID=Africa/Johannesburg:20250807T153000
DTSTAMP:20260420T201736
CREATED:20250624T081655Z
LAST-MODIFIED:20250728T104258Z
UID:15446-1754569800-1754580600@samed.org.za
SUMMARY:Women in Medtech Forum
DESCRIPTION:Celebrating Women in Medtech! \nYou’re Invited to the 2025 Women in Medtech Forum (in-Person Event) \nAs part of our 40th anniversary celebrations and in honour of Women’s Month\, SAMED is proud to host a powerful gathering of women and men who are shifting paradigms and reimagining leadership in the medtech industry. \n  \nJoin us for an inspiring and thought-provoking Women in Medtech Forum\, a space dedicated to celebrating the women who are doing the shadow work to transform our industry\, creating room not just for themselves but for generations to come. \n  \nOur headline speaker\, Nikki Bush\, award-winning speaker and 5-time best-selling author\, will open the forum with her signature keynote\, “Which Jacket Are You Wearing Now?”. Nikki will then guide an engaging panel discussion on: \n  \n“Breaking Bias: Disrupting the Status Quo in Leadership and Business” \n  \nThis session will unpack the invisible barriers women face and how we can collectively challenge outdated norms\, amplify new voices\, and redesign the future of medtech leadership. \n  \nWhy does diversity in medtech matter? \n  \nDiversity isn’t just a moral imperative; it’s a business one. Greater representation of women leads to stronger governance\, better decision-making\, and improved health outcomes. However\, retaining women in the workforce\, especially in leadership roles\, remains a global challenge. \n  \nAccording to McKinsey & Company’s Women in the Workplace 2025 report\, while hiring women into entry-level roles is improving\, attrition is rising across the leadership pipeline. Many women are stepping away due to slow progress in inclusive leadership\, burnout\, and unbalanced caregiving burdens\, trends that echo in our own context here in South Africa. \n  \nSAMED is addressing this head-on through our Women Empowerment Index\, which currently reflects data from 29 participating companies. We will share key findings from the Index during the forum\, offering a clearer picture of the patterns\, progress\, and persistent gaps in our sector. \n  \nWho should attend? \nWomen and men in medtech\, at every level\, who are building more equitable and empowering workplaces. If you’re ready to challenge the status quo and be part of a community that uplifts\, connects\, and transforms\, this is your space. \nLet’s celebrate Women’s Month by taking bold steps forward\, together! \nFor more information\, contact Nomthi at communication@samed.org.za
URL:https://samed.org.za/event/women-in-medtech-forum/
LOCATION:Chairperson’s Forum in Durban (In-Person Event)\, 13 Palm Boulevard\, uMhlanga Ridge\, KZN\, South Africa
CATEGORIES:Diversity in Medtech
ORGANIZER;CN="SAMED":MAILTO:communication@samed.org.za
END:VEVENT
BEGIN:VEVENT
DTSTART;TZID=Africa/Johannesburg:20250805T100000
DTEND;TZID=Africa/Johannesburg:20250805T113000
DTSTAMP:20260420T201736
CREATED:20250721T105841Z
LAST-MODIFIED:20250721T105841Z
UID:15523-1754388000-1754393400@samed.org.za
SUMMARY:Regulatory Forum: Update on Published Guidelines
DESCRIPTION:Save the Date – Event Details Coming Soon
URL:https://samed.org.za/event/regulatory-forum-update-on-published-guidelines/
LOCATION:Virtual
ORGANIZER;CN="SAMED":MAILTO:communication@samed.org.za
END:VEVENT
BEGIN:VEVENT
DTSTART;TZID=Africa/Johannesburg:20250729T100000
DTEND;TZID=Africa/Johannesburg:20250729T120000
DTSTAMP:20260420T201736
CREATED:20250624T081341Z
LAST-MODIFIED:20250728T104457Z
UID:15444-1753783200-1753790400@samed.org.za
SUMMARY:NHI Forum
DESCRIPTION:You are invited to attend the upcoming SAMED NHI Forum. \nAs you are aware\, the National Health Insurance (NHI) Act was signed into law on 15 May 2024\, setting in motion one of the most significant policy shifts in South Africa’s healthcare landscape. With the implementation process now underway\, it is essential for medical technology stakeholders to stay informed and engaged. \nWe are pleased to host an update from: \nProf Nicholas Crisp: Deputy Director-General: National Health Insurance\, National Department of Health \nProf Crisp will provide an overview of what has transpired since the Act was signed\, outline the Department’s next steps\, and discuss the implications for the private sector — including procurement\, reimbursement mechanisms\, and the integration of medtech in the NHI framework. \nWhy you should attend \nThis forum offers an opportunity to: \n\nUnderstand current NHI implementation milestones and timelines\nGain insight into policy developments affecting market access\, funding\, and regulatory pathways\nEngage with key decision-makers and raise critical questions relevant to the medtech sector\nAlign your organisation’s strategy with national healthcare reform efforts\n\nWho should attend: \n\nSenior executives and strategic decision-makers\nRegulatory and market access professionals\nPublic affairs and policy teams\nCommercial and procurement teams\nSAMED members seeking clarity on future health financing and reimbursement models\n\nIn preparation\, we encourage members to review SAMED’s Position Paper on NHI\, available here: https://samed.org.za/what-we-do/national-health-insurance/ \nThis session will be particularly relevant for those who are actively planning for the transition to a more unified national health system and wish to understand how the medtech sector will be engaged. \nFor non-SAMED members\, please contact Nomthi at communication@samed.org.za for forum fees.
URL:https://samed.org.za/event/nhi-forum/
LOCATION:Virtual
CATEGORIES:NHI
ORGANIZER;CN="SAMED":MAILTO:communication@samed.org.za
END:VEVENT
BEGIN:VEVENT
DTSTART;TZID=Africa/Johannesburg:20250724T100000
DTEND;TZID=Africa/Johannesburg:20250724T120000
DTSTAMP:20260420T201736
CREATED:20250623T091444Z
LAST-MODIFIED:20250703T093852Z
UID:15344-1753351200-1753358400@samed.org.za
SUMMARY:Market Access Forum: Demystifying Hospital Procurement: Navigating the Tender Process for Medtech Suppliers
DESCRIPTION:Understanding how hospital procurement processes work is critical for medical technology companies seeking to engage meaningfully and sustainably with the private healthcare sector. For many SAMED members\, navigating tender requirements\, compliance protocols\, and supplier expectations across different hospital groups remains a complex and evolving process. \nDate: Thursday\, 24 July 2025\nTime: 10:00 – 12:00\nFormat: Microsoft Teams\nRSVP: Click here to Register for the Forum \nTo support industry alignment and greater transparency\, SAMED invites you to attend this forum. This session is designed for business development\, commercial\, sales\, market access\, and supply chain teams\, as well as those responsible for tender submissions and supplier relationship management. \nThrough direct engagement with key procurement leaders\, members will gain clarity on: \n\nInternal procurement procedures and supply chain structures\nEvaluation and onboarding processes for new suppliers\nCommon challenges and best practices in medtech tendering\n\nPresenters Include: \n\nMediclinic Southern Africa – Venesha Shunmugam\, Supply Chain Manager: Pharmacy (For your reference\, click here for Mediclinic’s Procurement Policy)\nNetcare Limited – Vash Raghununan\, Deputy General Manager: Group Procurement Services\nLenmed – Shavani Naidoo\, Head of Procurement (Pharmaceutical & Surgical)
URL:https://samed.org.za/event/market-access-forum-demystifying-hospital-procurement/
LOCATION:Virtual
CATEGORIES:Market Access
ORGANIZER;CN="SAMED":MAILTO:communication@samed.org.za
END:VEVENT
BEGIN:VEVENT
DTSTART;TZID=Africa/Johannesburg:20250722T100000
DTEND;TZID=Africa/Johannesburg:20250722T120000
DTSTAMP:20260420T201736
CREATED:20250623T093057Z
LAST-MODIFIED:20250721T110331Z
UID:15345-1753178400-1753185600@samed.org.za
SUMMARY:Regulatory Forum: Healthcare Coding 101
DESCRIPTION:We are excited to extend an invitation to you for the upcoming Regulatory Forum where we will dive into the complexities of healthcare coding. Attending the event will be beneficial for anyone involved in managing and overseeing regulatory practices in the organization. \nAgenda \n\nOverview of Coding in Healthcare | Carol Garner\, GCMS\nIntroduction to GMDN | Deniz Bruce & Dr Barry Daniels\, GMDN Agency\nNAPPI Codes Update & Relevance for Medtech Companies | Krish Pather\, Medikredit\n\nSpeaker Information \n⁠Carol Garner | Deniz Bruce | Dr Barry Daniels  | Krish Pather \nRegister Now
URL:https://samed.org.za/event/samed-regulatory-forum-healthcare-coding-101/
LOCATION:Virtual
CATEGORIES:Regulatory
ORGANIZER;CN="SAMED":MAILTO:communication@samed.org.za
END:VEVENT
BEGIN:VEVENT
DTSTART;TZID=Africa/Johannesburg:20250715T100000
DTEND;TZID=Africa/Johannesburg:20250715T120000
DTSTAMP:20260420T201736
CREATED:20250623T111456Z
LAST-MODIFIED:20250702T103251Z
UID:15393-1752573600-1752580800@samed.org.za
SUMMARY:Medical Technology Code Forum: HPCSA Ethical Rules (Webinar 2 of 4) & HSACF Key Initiatives
DESCRIPTION:In this session Elsabé Klinck will provide a detailed overview of the HPCSA’s Ethical Rules\, Policies and Booklets referring to medical devices. Due to publication restrictions\, the Klinck & Samuels presentation from this event will only be shared with attendees. We urge you to attend the event to ensure that you benefit from the shared information. \nRepresentatives from the Special Investigating Unit (SIU) will join us to share updates on the work of the Health Sector Anti-Corruption Forum (HSACF) and the Prevention Sub-Committee\, as well as their ongoing goals and initiatives to promote integrity within the sector. \nAttending this event will be beneficial for: \n\nAnyone involved in managing\, overseeing or ensuring ethical practices within the organization.\n\nProgram: \n\nHPCSA Ethical Rules (Session 2 of 4) | Klinck & Samuels\nHSACF Update on Key Anti-Corruption Initiatives | Special Investigating Unit (SIU)\n\nCost to Attend: \n\nSAMED Members and Code Signatories – Free of Charge\nNon-SAMED Members and Non-Code Signatories – Please contact alwi@samed.org.za for the cost to attend this event\n\nRegister Now
URL:https://samed.org.za/event/medical-technology-code-forum/
LOCATION:Virtual
CATEGORIES:Code,Compliance
ATTACH;FMTTYPE=image/jpeg:https://samed.org.za/wp-content/uploads/2025/06/Banner2-scaled.jpg
ORGANIZER;CN="SAMED":MAILTO:communication@samed.org.za
END:VEVENT
BEGIN:VEVENT
DTSTART;TZID=Africa/Johannesburg:20250624T100000
DTEND;TZID=Africa/Johannesburg:20250624T120000
DTSTAMP:20260420T201736
CREATED:20250623T101711Z
LAST-MODIFIED:20250702T104021Z
UID:15372-1750759200-1750766400@samed.org.za
SUMMARY:Medical Technology Code Forum: HPCSA Ethical Rules (Webinar 1 of 4)
DESCRIPTION:We are excited to extend an invitation to you for the upcoming member forum. Elsabé Klinck will provide an overview of the Ethical Rules of the Health Professions Council of South Africa (HPCSA)\, and SAMED will provide updates on Code matters\, including CVS and the Code certification. Attending this event will be beneficial for anyone involved in managing\, overseeing or ensuring ethical practices within the organization. \nAgenda \n\nHPCSA Ethical Rules | Elsabé Klinck\, Klinck & Samuels\nCode Matters | Alwi Spearpoint\, SAMED\nYour Code Questions Answered | Code Committee\n\nSpeaker Information \n⁠Elsabe Klinck \nRegister Now \nCost \n\nMembers and Code Signatories: Free of charge\nNon-Members: Please contact alwi@samed.org.za for non-member attendance cost
URL:https://samed.org.za/event/samed-medical-technology-code-forum/
LOCATION:Virtual
CATEGORIES:Code
ATTACH;FMTTYPE=image/jpeg:https://samed.org.za/wp-content/uploads/2025/06/Code-Forum-24Jun25-Revised-scaled.jpg
ORGANIZER;CN="SAMED":MAILTO:communication@samed.org.za
END:VEVENT
END:VCALENDAR